BEGIN:VCALENDAR
VERSION:2.0
PRODID:-//Tukios.com/
BEGIN:VEVENT
UID:5afbd887-bdd6-4cc0-998a-a0bf16b83818@obituaries.coleman-taylorfuneralservices.com
DTSTAMP:20260426T012213Z
DTSTART:20260430T200000Z
DTEND:20260501T000000Z
SUMMARY:Public Viewing
DESCRIPTION:
URL:https://obituaries.coleman-taylorfuneralservices.com/obituaries/carol-kuzemko
LOCATION:     
GEO:0;0
END:VEVENT
END:VCALENDAR