BEGIN:VCALENDAR
VERSION:2.0
PRODID:-//Tukios.com/
BEGIN:VEVENT
UID:05472311-4d9b-440a-a1f1-66c4e3b3853f@obituaries.coleman-taylorfuneralservices.com
DTSTAMP:20260421T222223Z
DTSTART:20260424T200000Z
DTEND:20260424T230000Z
SUMMARY:Public Viewing
DESCRIPTION:
URL:https://obituaries.coleman-taylorfuneralservices.com/obituaries/kenneth-heirendt
LOCATION:Coleman-Taylor Funeral Services 3378 Millers Run Road  Cecil PA 
	15321
GEO:40.3210944;-80.2001781
END:VEVENT
END:VCALENDAR