BEGIN:VCALENDAR
VERSION:2.0
PRODID:-//Tukios.com/
BEGIN:VEVENT
UID:b2b1edbb-e59e-40ac-974a-2dd160925fde@obituaries.coleman-taylorfuneralservices.com
DTSTAMP:20260421T222540Z
DTSTART:20260425T140000Z
DTEND:20260425T150000Z
SUMMARY:Funeral Service
DESCRIPTION:
URL:https://obituaries.coleman-taylorfuneralservices.com/obituaries/kenneth-heirendt
LOCATION:St. Mary's Church 10 St. Mary's Lane  Cecil PA 15321
GEO:40.328282;-80.184401
END:VEVENT
END:VCALENDAR